BEGIN:VCALENDAR
VERSION:2.0
PRODID:Imitheme.com 
BEGIN:VEVENT
UID:20260421T043813523281028
DTSTAMP;TZID=UTC:2026-04-21 04:38:13
DTSTART;TZID=America/Los_Angeles:20260421T043813
DTEND;TZID=America/Los_Angeles:20260421T043813
SUMMARY:Mission Awareness
LOCATION:2620 W. Southport Rd\, Indianapolis\, IN 46217
DESCRIPTION:
URL:https://zbcindy.org/eventer/mission-awareness/
END:VEVENT
END:VCALENDAR
